BEGIN:VCALENDAR
VERSION:2.0
PRODID:icalendar-ruby
CALSCALE:GREGORIAN
METHOD:PUBLISH
BEGIN:VEVENT
DTSTAMP:20260422T105426Z
UID:9-886822@mcfchurch.org
DTSTART:20261018T143000Z
DTEND:20261018T153000Z
CLASS:PUBLIC
CREATED:20260421T195047
DESCRIPTION:Join us on Sunday mornings for small group Bible studies for al
 l ages.
LAST-MODIFIED:20260421T195047
LOCATION:
SUMMARY:Grow Groups
URL;VALUE=URI:https://mcfchurch.org/events/grow-groups--9/2026-10-18
ATTACH;FILENAME=F3RbY.jpg;FMTTYPE=image/jpeg:https://dq5pwpg1q8ru0.cloudfro
 nt.net/2023/08/08/13/18/58/176dc005-62b1-450e-b124-33f482456976/F3RbY.jpg
END:VEVENT
END:VCALENDAR
