BEGIN:VCALENDAR
VERSION:2.0
PRODID:icalendar-ruby
CALSCALE:GREGORIAN
METHOD:PUBLISH
BEGIN:VEVENT
DTSTAMP:20260419T141831Z
UID:7-874594@mcfchurch.org
DTSTART:20240714T154500Z
DTEND:20240714T170000Z
CLASS:PUBLIC
CREATED:20260419T072710
DESCRIPTION:Come worship with us!
LAST-MODIFIED:20260419T072710
LOCATION:
SUMMARY:Sunday Worship
URL;VALUE=URI:https://mcfchurch.org/events/sunday-worship/2024-07-14
END:VEVENT
END:VCALENDAR
